BEGIN:VCALENDAR
VERSION:2.0
PRODID:spatie/icalendar-generator
NAME:Düsseldorfer Jonges
X-WR-CALNAME:Düsseldorfer Jonges
BEGIN:VTIMEZONE
TZID:Europe/Berlin
BEGIN:STANDARD
DTSTART:20221030T030000
TZOFFSETFROM:+0200
TZOFFSETTO:+0100
END:STANDARD
BEGIN:DAYLIGHT
DTSTART:20230326T020000
TZOFFSETFROM:+0100
TZOFFSETTO:+0200
END:DAYLIGHT
END:VTIMEZONE
BEGIN:VTIMEZONE
TZID:UTC
BEGIN:STANDARD
DTSTART:20220625T130220
TZOFFSETFROM:+0000
TZOFFSETTO:+0000
END:STANDARD
END:VTIMEZONE
BEGIN:VEVENT
UID:1205
DTSTAMP:20230322T130220Z
DTSTART;TZID=Europe/Berlin:20230117T200000
DTEND;TZID=Europe/Berlin:20230117T210000
SUMMARY:„Bewusstsein für Energie\, was kann ich ad hoc tun?\"
DESCRIPTION:Referent:\n\nPhilipp Meindl Leiter der Energieberatung Stadtwer
 ke Düsseldorf
IMAGE;VALUE=URI:https://duesseldorferjonges.de/media_thumbs/cms/24602337-78
 d6-42ac-83e9-18bac7349559/meidl-philipp-zwei-drittel.jpeg/9ac16836f9c307e6
 0b4d437e54a510c7.jpeg?q=95&fit=max&crop=360%2C240%2C0%2C0&w=500&s=3398dda5
 4b148c4c98387ce697918d2a
LOCATION:Henkel Saal\, Ratinger Str. 25\, 40213 Düsseldorf
END:VEVENT
END:VCALENDAR