BEGIN:VCALENDAR
VERSION:2.0
PRODID:spatie/icalendar-generator
NAME:Düsseldorfer Jonges
X-WR-CALNAME:Düsseldorfer Jonges
BEGIN:VTIMEZONE
TZID:Europe/Berlin
BEGIN:STANDARD
DTSTART:20231029T030000
TZOFFSETFROM:+0200
TZOFFSETTO:+0100
END:STANDARD
BEGIN:DAYLIGHT
DTSTART:20240331T020000
TZOFFSETFROM:+0100
TZOFFSETTO:+0200
END:DAYLIGHT
END:VTIMEZONE
BEGIN:VTIMEZONE
TZID:UTC
BEGIN:STANDARD
DTSTART:20230209T205207
TZOFFSETFROM:+0000
TZOFFSETTO:+0000
END:STANDARD
END:VTIMEZONE
BEGIN:VEVENT
UID:1299
DTSTAMP:20231106T205207Z
DTSTART;TZID=Europe/Berlin:20240220T200000
DTEND;TZID=Europe/Berlin:20240220T210000
SUMMARY:Frauen in der Feuerwehr | Bädergesellschaft Düsseldorf
DESCRIPTION:Referentin:\nBirgit Kill\, Landesfrauensprecherin NRW & Projekt
 koordinatorin Frauen in der Feuerwehr\nReferent:\nChristoph Schlupkothen\,
  Geschäftsführer der Düsseldorfer Bädergesellschaft
IMAGE;VALUE=URI:https://duesseldorferjonges.de/media_thumbs/cms/67c9e678-6e
 3c-4e28-a705-3c3a5953d2cb/urn-newsml-dpacom-20090101-230613-99-33624.jpg/3
 4c09821ebfda77ce0bcf3bb4a57c02e.jpg?q=95&fit=max&crop=1365%2C2048%2C0%2C0&
 w=500&s=1167bb2fb6f0f162298409c982229758
LOCATION:Henkel Saal\, Ratinger Str. 25\, 40213 Düsseldorf
END:VEVENT
END:VCALENDAR