BEGIN:VCALENDAR
VERSION:2.0
PRODID:spatie/icalendar-generator
NAME:Düsseldorfer Jonges
X-WR-CALNAME:Düsseldorfer Jonges
BEGIN:VTIMEZONE
TZID:Europe/Berlin
BEGIN:DAYLIGHT
DTSTART:20250330T020000
TZOFFSETFROM:+0100
TZOFFSETTO:+0200
END:DAYLIGHT
BEGIN:STANDARD
DTSTART:20251026T030000
TZOFFSETFROM:+0200
TZOFFSETTO:+0100
END:STANDARD
BEGIN:DAYLIGHT
DTSTART:20260329T020000
TZOFFSETFROM:+0100
TZOFFSETTO:+0200
END:DAYLIGHT
END:VTIMEZONE
BEGIN:VTIMEZONE
TZID:UTC
BEGIN:STANDARD
DTSTART:20241120T194138
TZOFFSETFROM:+0000
TZOFFSETTO:+0000
END:STANDARD
END:VTIMEZONE
BEGIN:VEVENT
UID:1402
DTSTAMP:20250817T194138Z
DTSTART;TZID=Europe/Berlin:20251216T200000
DTEND;TZID=Europe/Berlin:20251216T210000
SUMMARY:Die Bundeswehr in NRW in der Zeitenwende“
DESCRIPTION:Die Bundeswehr in NRW in der Zeitenwende“\n\nDas inkludiert d
 ie aktuelle sicherheitspolitische Bedrohungslage\, die Anstrengungen der B
 undeswehr \"kriegstüchtig\" zu werden\, die Herausforderungen der Zivil-M
 ilitärischen-Zusammenarbeit in der Gesamtverteidigung und den Operationsp
 lan Deutschland.\n\nReferent:\nBrigadegeneral Hans-D. Müller\, Kommandeur
  des Landeskommandos Nordrhein-Westfalen
IMAGE;VALUE=URI:https://duesseldorferjonges.de/media_thumbs/cms/8f6aebb4-18
 10-4f4c-b3d5-65e753b67a8f/thumbnail-250814-briggen-muller.jpg/145adf208be9
 0b94801fb281cf014356.jpg?q=95&fit=max&crop=1920%2C2415%2C0%2C0&w=500&s=a6c
 056dc5c679566e24505796a29e5e2
LOCATION:Henkel Saal\, Ratinger Str. 25\, 40213 Düsseldorf
END:VEVENT
END:VCALENDAR