BEGIN:VCALENDAR
VERSION:2.0
PRODID:spatie/icalendar-generator
NAME:Düsseldorfer Jonges
X-WR-CALNAME:Düsseldorfer Jonges
BEGIN:VTIMEZONE
TZID:Europe/Berlin
BEGIN:STANDARD
DTSTART:20251026T030000
TZOFFSETFROM:+0200
TZOFFSETTO:+0100
END:STANDARD
BEGIN:DAYLIGHT
DTSTART:20260329T020000
TZOFFSETFROM:+0100
TZOFFSETTO:+0200
END:DAYLIGHT
BEGIN:STANDARD
DTSTART:20261025T030000
TZOFFSETFROM:+0200
TZOFFSETTO:+0100
END:STANDARD
END:VTIMEZONE
BEGIN:VTIMEZONE
TZID:UTC
BEGIN:STANDARD
DTSTART:20250701T084358
TZOFFSETFROM:+0000
TZOFFSETTO:+0000
END:STANDARD
END:VTIMEZONE
BEGIN:VEVENT
UID:1443
DTSTAMP:20260328T084358Z
DTSTART;TZID=Europe/Berlin:20260512T200000
DTEND;TZID=Europe/Berlin:20260512T210000
SUMMARY:Jonges Couch:  Im WM-Jahr: Der DFB-Geschäftsführer zu Gast bei de
 n Jonges - über die Bedeutung des Fußballs auf und neben dem Platz
DESCRIPTION:Jonges Couch:\nIm WM-Jahr: Der DFB-Geschäftsführer zu Gast be
 i den Jonges\n- über die Bedeutung des Fußballs auf und neben dem Platz 
 | \n\nModeration: \nGianni Costa\, Geschäftsführer Be Butterfly ehemalig
 er Chefreporter Sport der Rheinische Post | \n\nGast: \nAndreas Rettig\, G
 eschäftsführer Sport des DFB |\n\nHinweis „Foto: Thomas Böcker / DFB\
 "
IMAGE;VALUE=URI:https://duesseldorferjonges.de/media_thumbs/cms/312259fc-49
 ff-4d9b-9419-e1d368603d8e/dbfad7f0-61c3-431d-ad3b-f7fdaaf3ec1f.jpeg/0b3546
 bef217c6fdc9b58ab8c397169a.jpeg?q=95&fit=max&crop=1920%2C1920%2C0%2C0&w=50
 0&s=820b3ee98cbe71eb49f1c751abfb1a46
LOCATION:Henkel Saal\, Ratinger Str. 25\, 40213 Düsseldorf
END:VEVENT
END:VCALENDAR