BEGIN:VCALENDAR
VERSION:2.0
PRODID:spatie/icalendar-generator
NAME:Düsseldorfer Jonges
X-WR-CALNAME:Düsseldorfer Jonges
BEGIN:VTIMEZONE
TZID:Europe/Berlin
BEGIN:DAYLIGHT
DTSTART:20260329T020000
TZOFFSETFROM:+0100
TZOFFSETTO:+0200
END:DAYLIGHT
BEGIN:STANDARD
DTSTART:20261025T030000
TZOFFSETFROM:+0200
TZOFFSETTO:+0100
END:STANDARD
END:VTIMEZONE
BEGIN:VTIMEZONE
TZID:UTC
BEGIN:STANDARD
DTSTART:20250722T191556
TZOFFSETFROM:+0000
TZOFFSETTO:+0000
END:STANDARD
END:VTIMEZONE
BEGIN:VEVENT
UID:1447
DTSTAMP:20260418T191556Z
DTSTART;TZID=Europe/Berlin:20260901T200000
DTEND;TZID=Europe/Berlin:20260901T210000
SUMMARY:Rente und Sozialversicherung im demographischen Wandel
DESCRIPTION:Rente und Sozialversicherung im demographischen Wandel | \nRefe
 rent: PROF. DR. BERT RÜRUP\, Chefökonom des Handelsblatts
IMAGE;VALUE=URI:https://duesseldorferjonges.de/media_thumbs/cms/fd6816ca-78
 28-4ea1-a75f-92e13ab7fa6e/ruerupbert-handelsblatt-quer-cm0423-web.jpg/58b5
 6e8afa04179a9b7aa9fabeb29dce.jpg?q=95&fit=max&crop=850%2C566%2C0%2C0&w=500
 &s=1eb1f38fcd7c69d95a3a9049edaf92c2
LOCATION:Henkel Saal\, Ratinger Str. 25\, 40213 Düsseldorf
END:VEVENT
END:VCALENDAR