BEGIN:VCALENDAR
VERSION:2.0
PRODID:spatie/icalendar-generator
NAME:Düsseldorfer Jonges
X-WR-CALNAME:Düsseldorfer Jonges
BEGIN:VTIMEZONE
TZID:Europe/Berlin
BEGIN:DAYLIGHT
DTSTART:20260329T020000
TZOFFSETFROM:+0100
TZOFFSETTO:+0200
END:DAYLIGHT
BEGIN:STANDARD
DTSTART:20261025T030000
TZOFFSETFROM:+0200
TZOFFSETTO:+0100
END:STANDARD
END:VTIMEZONE
BEGIN:VTIMEZONE
TZID:UTC
BEGIN:STANDARD
DTSTART:20250722T192332
TZOFFSETFROM:+0000
TZOFFSETTO:+0000
END:STANDARD
END:VTIMEZONE
BEGIN:VEVENT
UID:1448
DTSTAMP:20260418T192332Z
DTSTART;TZID=Europe/Berlin:20260818T200000
DTEND;TZID=Europe/Berlin:20260818T210000
SUMMARY:Das Leben und Wirken von Hans‑Müller‑Schlösser
DESCRIPTION:Das Leben und Wirken von Hans‑Müller‑Schlösser |\nRefere
 nt:\nManfred Hebenstreit\, Vorsitzender der Geschichtswerkstatt Düsseldor
 f e.V.
IMAGE;VALUE=URI:https://duesseldorferjonges.de/media_thumbs/cms/6e5fad3b-de
 34-4b5f-834f-c3918c857d48/screenshot-2026-04-18-212951.jpg/a1f553edb8fe12a
 cfee27f605b158aea.jpg?q=95&fit=max&crop=357%2C560%2C0%2C0&w=500&s=15e4f5db
 1949d845a3189b58c09a5a37
LOCATION:Henkel Saal\, Ratinger Str. 25\, 40213 Düsseldorf
END:VEVENT
END:VCALENDAR